Workbook

Sheet Sheet1
G1: 2021年市直毕业生录取结果
G2: 民办学校 | I2: 公办学校
A3: 序号 | B3: 毕业学校 | C3: 学生姓名 | D3: 性别 | E3: 班别 | F3: 考试号 | G3: 教育城初中 | H3: 实验学校 | I3: 第一志愿 | J3: 第二志愿 | K3: 随机抽签号 | L3: 人数 | M3: 录取学校
A4: 1 | B4: 教育城小学 | C4: 王译浩 | D4: 男 | E4: 601 | F4: 1501010006 | G4: 教育城初中 | H4: 实验学校 | I4: 信宜二中 | J4: 华侨中学 | K4: 0.36226803 | L4: =IF(LEN(D4)=1,1,2) -> 1 | M4: =IF(COUNTIF([1]城中!F:F,F4)=1,"教育城初中",IF(COUNTIF([1]实验!F:F,F4)=1,"实验学校",IF(COUNTIF([1]二中!F:F,F4)=1,"信宜二中",IF(COUNTIF([1]侨中!F:F,F4)=1,"华侨中学","")))) -> 教育城初中
A5: 2 | B5: 教育城小学 | C5: 吴秉轩 | D5: 男 | E5: 601 | F5: 1501010017 | G5: 教育城初中 | H5: 实验学校 | I5: 信宜二中 | J5: 华侨中学 | K5: 0.23333621 | L5: =IF(LEN(D5)=1,1,2) -> 1 | M5: =IF(COUNTIF([1]城中!F:F,F5)=1,"教育城初中",IF(COUNTIF([1]实验!F:F,F5)=1,"实验学校",IF(COUNTIF([1]二中!F:F,F5)=1,"信宜二中",IF(COUNTIF([1]侨中!F:F,F5)=1,"华侨中学","")))) -> 教育城初中
A6: 3 | B6: 教育城小学 | C6: 黄进勇 | D6: 男 | E6: 601 | F6: 1501010020 | G6: 教育城初中 | H6: 实验学校 | I6: 信宜二中 | J6: 华侨中学 | K6: 0.7559992 | L6: =IF(LEN(D6)=1,1,2) -> 1 | M6: =IF(COUNTIF([1]城中!F:F,F6)=1,"教育城初中",IF(COUNTIF([1]实验!F:F,F6)=1,"实验学校",IF(COUNTIF([1]二中!F:F,F6)=1,"信宜二中",IF(COUNTIF([1]侨中!F:F,F6)=1,"华侨中学","")))) -> 信宜二中
A7: 4 | B7: 教育城小学 | C7: 周思博 | D7: 女 | E7: 601 | F7: 1501010023 | G7: 教育城初中 | H7: 实验学校 | I7: 信宜二中 | J7: 华侨中学 | K7: 0.83416537 | L7: =IF(LEN(D7)=1,1,2) -> 1 | M7: =IF(COUNTIF([1]城中!F:F,F7)=1,"教育城初中",IF(COUNTIF([1]实验!F:F,F7)=1,"实验学校",IF(COUNTIF([1]二中!F:F,F7)=1,"信宜二中",IF(COUNTIF([1]侨中!F:F,F7)=1,"华侨中学","")))) -> 信宜二中
A8: 5 | B8: 教育城小学 | C8: 甘培政 | D8: 男 | E8: 601 | F8: 1501010040 | G8: 教育城初中 | H8: 实验学校 | I8: 信宜二中 | J8: 华侨中学 | K8: 0.52758722 | L8: =IF(LEN(D8)=1,1,2) -> 1 | M8: =IF(COUNTIF([1]城中!F:F,F8)=1,"教育城初中",IF(COUNTIF([1]实验!F:F,F8)=1,"实验学校",IF(COUNTIF([1]二中!F:F,F8)=1,"信宜二中",IF(COUNTIF([1]侨中!F:F,F8)=1,"华侨中学","")))) -> 实验学校
A9: 6 | B9: 教育城小学 | C9: 刘贤 | D9: 女 | E9: 601 | F9: 1501010050 | G9: 教育城初中 | H9: 实验学校 | I9: 信宜二中 | J9: 华侨中学 | K9: 0.8048027 | L9: =IF(LEN(D9)=1,1,2) -> 1 | M9: =IF(COUNTIF([1]城中!F:F,F9)=1,"教育城初中",IF(COUNTIF([1]实验!F:F,F9)=1,"实验学校",IF(COUNTIF([1]二中!F:F,F9)=1,"信宜二中",IF(COUNTIF([1]侨中!F:F,F9)=1,"华侨中学","")))) -> 信宜二中
A10: 7 | B10: 教育城小学 | C10: 黎政钊 | D10: 男 | E10: 601 | F10: 1501010067 | G10: 教育城初中 | H10: 实验学校 | I10: 信宜二中 | J10: 华侨中学 | K10: 0.070185456 | L10: =IF(LEN(D10)=1,1,2) -> 1 | M10: =IF(COUNTIF([1]城中!F:F,F10)=1,"教育城初中",IF(COUNTIF([1]实验!F:F,F10)=1,"实验学校",IF(COUNTIF([1]二中!F:F,F10)=1,"信宜二中",IF(COUNTIF([1]侨中!F:F,F10)=1,"华侨中学","")))) -> 教育城初中
A11: 8 | B11: 教育城小学 | C11: 黎锦源 | D11: 男 | E11: 601 | F11: 1501010128 | G11: 教育城初中 | H11: 实验学校 | I11: 华侨中学 | J11: 信宜二中 | K11: 0.67473582 | L11: =IF(LEN(D11)=1,1,2) -> 1 | M11: =IF(COUNTIF([1]城中!F:F,F11)=1,"教育城初中",IF(COUNTIF([1]实验!F:F,F11)=1,"实验学校",IF(COUNTIF([1]二中!F:F,F11)=1,"信宜二中",IF(COUNTIF([1]侨中!F:F,F11)=1,"华侨中学","")))) -> 实验学校
A12: 9 | B12: 教育城小学 | C12: 曾子扬 | D12: 男 | E12: 601 | F12: 1501010149 | G12: 教育城初中 | I12: 华侨中学 | K12: 0.94984036 | L12: =IF(LEN(D12)=1,1,2) -> 1 | M12: =IF(COUNTIF([1]城中!F:F,F12)=1,"教育城初中",IF(COUNTIF([1]实验!F:F,F12)=1,"实验学校",IF(COUNTIF([1]二中!F:F,F12)=1,"信宜二中",IF(COUNTIF([1]侨中!F:F,F12)=1,"华侨中学","")))) -> 华侨中学
A13: 10 | B13: 教育城小学 | C13: 黄逸禧 | D13: 男 | E13: 601 | F13: 1501010160 | G13: 教育城初中 | H13: 实验学校 | I13: 华侨中学 | J13: 信宜二中 | K13: 0.98230877 | L13: =IF(LEN(D13)=1,1,2) -> 1 | M13: =IF(COUNTIF([1]城中!F:F,F13)=1,"教育城初中",IF(COUNTIF([1]实验!F:F,F13)=1,"实验学校",IF(COUNTIF([1]二中!F:F,F13)=1,"信宜二中",IF(COUNTIF([1]侨中!F:F,F13)=1,"华侨中学","")))) -> 华侨中学
A14: 11 | B14: 教育城小学 | C14: 宁菲 | D14: 女 | E14: 601 | F14: 1501010179 | G14: 教育城初中 | H14: 实验学校 | I14: 信宜二中 | J14: 华侨中学 | K14: 0.070716928 | L14: =IF(LEN(D14)=1,1,2) -> 1 | M14: =IF(COUNTIF([1]城中!F:F,F14)=1,"教育城初中",IF(COUNTIF([1]实验!F:F,F14)=1,"实验学校",IF(COUNTIF([1]二中!F:F,F14)=1,"信宜二中",IF(COUNTIF([1]侨中!F:F,F14)=1,"华侨中学","")))) -> 教育城初中
A15: 12 | B15: 教育城小学 | C15: 莫沛谕 | D15: 女 | E15: 601 | F15: 1501010192 | G15: 教育城初中 | H15: 实验学校 | I15: 信宜二中 | J15: 华侨中学 | K15: 0.20191481 | L15: =IF(LEN(D15)=1,1,2) -> 1 | M15: =IF(COUNTIF([1]城中!F:F,F15)=1,"教育城初中",IF(COUNTIF([1]实验!F:F,F15)=1,"实验学校",IF(COUNTIF([1]二中!F:F,F15)=1,"信宜二中",IF(COUNTIF([1]侨中!F:F,F15)=1,"华侨中学","")))) -> 教育城初中
A16: 13 | B16: 教育城小学 | C16: 黄千城 | D16: 男 | E16: 601 | F16: 1501010221 | G16: 教育城初中 | H16: 实验学校 | I16: 信宜二中 | J16: 华侨中学 | K16: 0.23647431 | L16: =IF(LEN(D16)=1,1,2) -> 1 | M16: =IF(COUNTIF([1]城中!F:F,F16)=1,"教育城初中",IF(COUNTIF([1]实验!F:F,F16)=1,"实验学校",IF(COUNTIF([1]二中!F:F,F16)=1,"信宜二中",IF(COUNTIF([1]侨中!F:F,F16)=1,"华侨中学","")))) -> 教育城初中
A17: 14 | B17: 教育城小学 | C17: 黎钧浩 | D17: 男 | E17: 601 | F17: 1501010225 | G17: 教育城初中 | H17: 实验学校 | I17: 信宜二中 | J17: 华侨中学 | K17: 0.34619441 | L17: =IF(LEN(D17)=1,1,2) -> 1 | M17: =IF(COUNTIF([1]城中!F:F,F17)=1,"教育城初中",IF(COUNTIF([1]实验!F:F,F17)=1,"实验学校",IF(COUNTIF([1]二中!F:F,F17)=1,"信宜二中",IF(COUNTIF([1]侨中!F:F,F17)=1,"华侨中学","")))) -> 教育城初中
A18: 15 | B18: 教育城小学 | C18: 谭锦锋 | D18: 男 | E18: 601 | F18: 1501010241 | G18: 教育城初中 | H18: 实验学校 | I18: 信宜二中 | J18: 华侨中学 | K18: 0.24837942 | L18: =IF(LEN(D18)=1,1,2) -> 1 | M18: =IF(COUNTIF([1]城中!F:F,F18)=1,"教育城初中",IF(COUNTIF([1]实验!F:F,F18)=1,"实验学校",IF(COUNTIF([1]二中!F:F,F18)=1,"信宜二中",IF(COUNTIF([1]侨中!F:F,F18)=1,"华侨中学","")))) -> 教育城初中
A19: 16 | B19: 教育城小学 | C19: 李彦泽 | D19: 男 | E19: 601 | F19: 1501010340 | G19: 教育城初中 | H19: 实验学校 | I19: 华侨中学 | J19: 信宜二中 | K19: 0.089136864 | L19: =IF(LEN(D19)=1,1,2) -> 1 | M19: =IF(COUNTIF([1]城中!F:F,F19)=1,"教育城初中",IF(COUNTIF([1]实验!F:F,F19)=1,"实验学校",IF(COUNTIF([1]二中!F:F,F19)=1,"信宜二中",IF(COUNTIF([1]侨中!F:F,F19)=1,"华侨中学","")))) -> 教育城初中
A20: 17 | B20: 教育城小学 | C20: 郝星 | D20: 女 | E20: 601 | F20: 1501010345 | G20: 教育城初中 | H20: 实验学校 | I20: 信宜二中 | J20: 华侨中学 | K20: 0.55046395 | L20: =IF(LEN(D20)=1,1,2) -> 1 | M20: =IF(COUNTIF([1]城中!F:F,F20)=1,"教育城初中",IF(COUNTIF([1]实验!F:F,F20)=1,"实验学校",IF(COUNTIF([1]二中!F:F,F20)=1,"信宜二中",IF(COUNTIF([1]侨中!F:F,F20)=1,"华侨中学","")))) -> 实验学校
A21: 18 | B21: 教育城小学 | C21: 邱榆芸 | D21: 女 | E21: 601 | F21: 1501010351 | G21: 教育城初中 | H21: 实验学校 | I21: 信宜二中 | J21: 华侨中学 | K21: 0.64693018 | L21: =IF(LEN(D21)=1,1,2) -> 1 | M21: =IF(COUNTIF([1]城中!F:F,F21)=1,"教育城初中",IF(COUNTIF([1]实验!F:F,F21)=1,"实验学校",IF(COUNTIF([1]二中!F:F,F21)=1,"信宜二中",IF(COUNTIF([1]侨中!F:F,F21)=1,"华侨中学","")))) -> 实验学校
A22: 19 | B22: 教育城小学 | C22: 张彩桃 | D22: 女 | E22: 601 | F22: 1501010393 | G22: 教育城初中 | I22: 信宜二中 | K22: 0.54406722 | L22: =IF(LEN(D22)=1,1,2) -> 1 | M22: =IF(COUNTIF([1]城中!F:F,F22)=1,"教育城初中",IF(COUNTIF([1]实验!F:F,F22)=1,"实验学校",IF(COUNTIF([1]二中!F:F,F22)=1,"信宜二中",IF(COUNTIF([1]侨中!F:F,F22)=1,"华侨中学","")))) -> 信宜二中
A23: 20 | B23: 教育城小学 | C23: 赖嘉煌 | D23: 男 | E23: 601 | F23: 1501010408 | G23: 教育城初中 | I23: 信宜二中 | J23: 华侨中学 | K23: 0.07286218 | L23: =IF(LEN(D23)=1,1,2) -> 1 | M23: =IF(COUNTIF([1]城中!F:F,F23)=1,"教育城初中",IF(COUNTIF([1]实验!F:F,F23)=1,"实验学校",IF(COUNTIF([1]二中!F:F,F23)=1,"信宜二中",IF(COUNTIF([1]侨中!F:F,F23)=1,"华侨中学","")))) -> 教育城初中
A24: 21 | B24: 教育城小学 | C24: 朱峰毅 | D24: 男 | E24: 601 | F24: 1501010428 | G24: 教育城初中 | H24: 实验学校 | I24: 信宜二中 | J24: 华侨中学 | K24: 0.87176466 | L24: =IF(LEN(D24)=1,1,2) -> 1 | M24: =IF(COUNTIF([1]城中!F:F,F24)=1,"教育城初中",IF(COUNTIF([1]实验!F:F,F24)=1,"实验学校",IF(COUNTIF([1]二中!F:F,F24)=1,"信宜二中",IF(COUNTIF([1]侨中!F:F,F24)=1,"华侨中学","")))) -> 信宜二中
A25: 22 | B25: 教育城小学 | C25: 张宇悦 | D25: 男 | E25: 601 | F25: 1501010429 | G25: 教育城初中 | H25: 实验学校 | I25: 信宜二中 | J25: 华侨中学 | K25: 0.8728214 | L25: =IF(LEN(D25)=1,1,2) -> 1 | M25: =IF(COUNTIF([1]城中!F:F,F25)=1,"教育城初中",IF(COUNTIF([1]实验!F:F,F25)=1,"实验学校",IF(COUNTIF([1]二中!F:F,F25)=1,"信宜二中",IF(COUNTIF([1]侨中!F:F,F25)=1,"华侨中学","")))) -> 信宜二中
A26: 23 | B26: 教育城小学 | C26: 潘泽铭 | D26: 男 | E26: 601 | F26: 1501010472 | G26: 教育城初中 | H26: 实验学校 | I26: 信宜二中 | J26: 华侨中学 | K26: 0.42131927 | L26: =IF(LEN(D26)=1,1,2) -> 1 | M26: =IF(COUNTIF([1]城中!F:F,F26)=1,"教育城初中",IF(COUNTIF([1]实验!F:F,F26)=1,"实验学校",IF(COUNTIF([1]二中!F:F,F26)=1,"信宜二中",IF(COUNTIF([1]侨中!F:F,F26)=1,"华侨中学","")))) -> 教育城初中
A27: 24 | B27: 教育城小学 | C27: 陆锦鸿 | D27: 男 | E27: 601 | F27: 1501010508 | G27: 教育城初中 | H27: 实验学校 | I27: 信宜二中 | J27: 华侨中学 | K27: 0.90526118 | L27: =IF(LEN(D27)=1,1,2) -> 1 | M27: =IF(COUNTIF([1]城中!F:F,F27)=1,"教育城初中",IF(COUNTIF([1]实验!F:F,F27)=1,"实验学校",IF(COUNTIF([1]二中!F:F,F27)=1,"信宜二中",IF(COUNTIF([1]侨中!F:F,F27)=1,"华侨中学","")))) -> 信宜二中
A28: 25 | B28: 教育城小学 | C28: 罗铭君 | D28: 男 | E28: 601 | F28: 1501010539 | G28: 教育城初中 | H28: 实验学校 | I28: 信宜二中 | J28: 华侨中学 | K28: 0.20616206 | L28: =IF(LEN(D28)=1,1,2) -> 1 | M28: =IF(COUNTIF([1]城中!F:F,F28)=1,"教育城初中",IF(COUNTIF([1]实验!F:F,F28)=1,"实验学校",IF(COUNTIF([1]二中!F:F,F28)=1,"信宜二中",IF(COUNTIF([1]侨中!F:F,F28)=1,"华侨中学","")))) -> 教育城初中
A29: 26 | B29: 教育城小学 | C29: 黎明玥 | D29: 女 | E29: 601 | F29: 1501010570 | G29: 教育城初中 | H29: 实验学校 | I29: 信宜二中 | J29: 华侨中学 | K29: 0.85534957 | L29: =IF(LEN(D29)=1,1,2) -> 1 | M29: =IF(COUNTIF([1]城中!F:F,F29)=1,"教育城初中",IF(COUNTIF([1]实验!F:F,F29)=1,"实验学校",IF(COUNTIF([1]二中!F:F,F29)=1,"信宜二中",IF(COUNTIF([1]侨中!F:F,F29)=1,"华侨中学","")))) -> 信宜二中
A30: 27 | B30: 教育城小学 | C30: 林浩云 | D30: 男 | E30: 601 | F30: 1501010577 | G30: 教育城初中 | H30: 实验学校 | I30: 信宜二中 | J30: 华侨中学 | K30: 0.05259325 | L30: =IF(LEN(D30)=1,1,2) -> 1 | M30: =IF(COUNTIF([1]城中!F:F,F30)=1,"教育城初中",IF(COUNTIF([1]实验!F:F,F30)=1,"实验学校",IF(COUNTIF([1]二中!F:F,F30)=1,"信宜二中",IF(COUNTIF([1]侨中!F:F,F30)=1,"华侨中学","")))) -> 教育城初中
A31: 28 | B31: 教育城小学 | C31: 梁钧皓 | D31: 男 | E31: 601 | F31: 1501010592 | G31: 教育城初中 | H31: 实验学校 | I31: 信宜二中 | J31: 华侨中学 | K31: 0.74167854 | L31: =IF(LEN(D31)=1,1,2) -> 1 | M31: =IF(COUNTIF([1]城中!F:F,F31)=1,"教育城初中",IF(COUNTIF([1]实验!F:F,F31)=1,"实验学校",IF(COUNTIF([1]二中!F:F,F31)=1,"信宜二中",IF(COUNTIF([1]侨中!F:F,F31)=1,"华侨中学","")))) -> 信宜二中
A32: 29 | B32: 教育城小学 | C32: 罗嘉惠 | D32: 女 | E32: 601 | F32: 1501010599 | G32: 教育城初中 | H32: 实验学校 | I32: 信宜二中 | J32: 华侨中学 | K32: 0.034091883 | L32: =IF(LEN(D32)=1,1,2) -> 1 | M32: =IF(COUNTIF([1]城中!F:F,F32)=1,"教育城初中",IF(COUNTIF([1]实验!F:F,F32)=1,"实验学校",IF(COUNTIF([1]二中!F:F,F32)=1,"信宜二中",IF(COUNTIF([1]侨中!F:F,F32)=1,"华侨中学","")))) -> 教育城初中
A33: 30 | B33: 教育城小学 | C33: 刘湘如 | D33: 女 | E33: 601 | F33: 1501010616 | G33: 教育城初中 | H33: 实验学校 | I33: 信宜二中 | J33: 华侨中学 | K33: 0.73466121 | L33: =IF(LEN(D33)=1,1,2) -> 1 | M33: =IF(COUNTIF([1]城中!F:F,F33)=1,"教育城初中",IF(COUNTIF([1]实验!F:F,F33)=1,"实验学校",IF(COUNTIF([1]二中!F:F,F33)=1,"信宜二中",IF(COUNTIF([1]侨中!F:F,F33)=1,"华侨中学","")))) -> 信宜二中
A34: 31 | B34: 教育城小学 | C34: 罗奕钦 | D34: 男 | E34: 601 | F34: 1501010617 | G34: 教育城初中 | H34: 实验学校 | I34: 信宜二中 | J34: 华侨中学 | K34: 0.060246723 | L34: =IF(LEN(D34)=1,1,2) -> 1 | M34: =IF(COUNTIF([1]城中!F:F,F34)=1,"教育城初中",IF(COUNTIF([1]实验!F:F,F34)=1,"实验学校",IF(COUNTIF([1]二中!F:F,F34)=1,"信宜二中",IF(COUNTIF([1]侨中!F:F,F34)=1,"华侨中学","")))) -> 教育城初中
A35: 32 | B35: 教育城小学 | C35: 韦晋升 | D35: 男 | E35: 601 | F35: 1501010662 | G35: 教育城初中 | H35: 实验学校 | I35: 信宜二中 | J35: 华侨中学 | K35: 0.57891332 | L35: =IF(LEN(D35)=1,1,2) -> 1 | M35: =IF(COUNTIF([1]城中!F:F,F35)=1,"教育城初中",IF(COUNTIF([1]实验!F:F,F35)=1,"实验学校",IF(COUNTIF([1]二中!F:F,F35)=1,"信宜二中",IF(COUNTIF([1]侨中!F:F,F35)=1,"华侨中学","")))) -> 实验学校
A36: 33 | B36: 教育城小学 | C36: 梁思铷 | D36: 女 | E36: 601 | F36: 1501010700 | G36: 教育城初中 | K36: 0.18994461 | L36: =IF(LEN(D36)=1,1,2) -> 1 | M36: =IF(COUNTIF([1]城中!F:F,F36)=1,"教育城初中",IF(COUNTIF([1]实验!F:F,F36)=1,"实验学校",IF(COUNTIF([1]二中!F:F,F36)=1,"信宜二中",IF(COUNTIF([1]侨中!F:F,F36)=1,"华侨中学","")))) -> 教育城初中
A37: 34 | B37: 教育城小学 | C37: 赵海琳 | D37: 女 | E37: 601 | F37: 1501010769 | G37: 教育城初中 | H37: 实验学校 | I37: 信宜二中 | J37: 华侨中学 | K37: 0.18248578 | L37: =IF(LEN(D37)=1,1,2) -> 1 | M37: =IF(COUNTIF([1]城中!F:F,F37)=1,"教育城初中",IF(COUNTIF([1]实验!F:F,F37)=1,"实验学校",IF(COUNTIF([1]二中!F:F,F37)=1,"信宜二中",IF(COUNTIF([1]侨中!F:F,F37)=1,"华侨中学","")))) -> 教育城初中
A38: 35 | B38: 教育城小学 | C38: 刘雨锋 | D38: 男 | E38: 601 | F38: 1501010815 | G38: 教育城初中 | H38: 实验学校 | I38: 信宜二中 | J38: 华侨中学 | K38: 0.51057164 | L38: =IF(LEN(D38)=1,1,2) -> 1 | M38: =IF(COUNTIF([1]城中!F:F,F38)=1,"教育城初中",IF(COUNTIF([1]实验!F:F,F38)=1,"实验学校",IF(COUNTIF([1]二中!F:F,F38)=1,"信宜二中",IF(COUNTIF([1]侨中!F:F,F38)=1,"华侨中学","")))) -> 教育城初中
A39: 36 | B39: 教育城小学 | C39: 覃科达 | D39: 男 | E39: 601 | F39: 1501010846 | G39: 教育城初中 | K39: 0.084473773 | L39: =IF(LEN(D39)=1,1,2) -> 1 | M39: =IF(COUNTIF([1]城中!F:F,F39)=1,"教育城初中",IF(COUNTIF([1]实验!F:F,F39)=1,"实验学校",IF(COUNTIF([1]二中!F:F,F39)=1,"信宜二中",IF(COUNTIF([1]侨中!F:F,F39)=1,"华侨中学","")))) -> 教育城初中
A40: 37 | B40: 教育城小学 | C40: 赖芃旭 | D40: 男 | E40: 601 | F40: 1501010869 | G40: 教育城初中 | H40: 实验学校 | I40: 信宜二中 | J40: 华侨中学 | K40: 0.71659573 | L40: =IF(LEN(D40)=1,1,2) -> 1 | M40: =IF(COUNTIF([1]城中!F:F,F40)=1,"教育城初中",IF(COUNTIF([1]实验!F:F,F40)=1,"实验学校",IF(COUNTIF([1]二中!F:F,F40)=1,"信宜二中",IF(COUNTIF([1]侨中!F:F,F40)=1,"华侨中学","")))) -> 实验学校
A41: 38 | B41: 教育城小学 | C41: 陈彦羽 | D41: 女 | E41: 601 | F41: 1501010883 | G41: 教育城初中 | H41: 实验学校 | I41: 信宜二中 | J41: 华侨中学 | K41: 0.13220938 | L41: =IF(LEN(D41)=1,1,2) -> 1 | M41: =IF(COUNTIF([1]城中!F:F,F41)=1,"教育城初中",IF(COUNTIF([1]实验!F:F,F41)=1,"实验学校",IF(COUNTIF([1]二中!F:F,F41)=1,"信宜二中",IF(COUNTIF([1]侨中!F:F,F41)=1,"华侨中学","")))) -> 教育城初中
A42: 39 | B42: 教育城小学 | C42: 韦然 | D42: 男 | E42: 601 | F42: 1501010890 | G42: 教育城初中 | I42: 信宜二中 | J42: 华侨中学 | K42: 0.81261491 | L42: =IF(LEN(D42)=1,1,2) -> 1 | M42: =IF(COUNTIF([1]城中!F:F,F42)=1,"教育城初中",IF(COUNTIF([1]实验!F:F,F42)=1,"实验学校",IF(COUNTIF([1]二中!F:F,F42)=1,"信宜二中",IF(COUNTIF([1]侨中!F:F,F42)=1,"华侨中学","")))) -> 信宜二中
A43: 40 | B43: 教育城小学 | C43: 李承禹 | D43: 男 | E43: 601 | F43: 1501010961 | G43: 教育城初中 | H43: 实验学校 | I43: 信宜二中 | J43: 华侨中学 | K43: 0.25160347 | L43: =IF(LEN(D43)=1,1,2) -> 1 | M43: =IF(COUNTIF([1]城中!F:F,F43)=1,"教育城初中",IF(COUNTIF([1]实验!F:F,F43)=1,"实验学校",IF(COUNTIF([1]二中!F:F,F43)=1,"信宜二中",IF(COUNTIF([1]侨中!F:F,F43)=1,"华侨中学","")))) -> 教育城初中
A44: 41 | B44: 教育城小学 | C44: 梁库宁 | D44: 男 | E44: 601 | F44: 1501010992 | G44: 教育城初中 | H44: 实验学校 | I44: 信宜二中 | J44: 华侨中学 | K44: 0.50094082 | L44: =IF(LEN(D44)=1,1,2) -> 1 | M44: =IF(COUNTIF([1]城中!F:F,F44)=1,"教育城初中",IF(COUNTIF([1]实验!F:F,F44)=1,"实验学校",IF(COUNTIF([1]二中!F:F,F44)=1,"信宜二中",IF(COUNTIF([1]侨中!F:F,F44)=1,"华侨中学","")))) -> 教育城初中
A45: 42 | B45: 教育城小学 | C45: 王柄焜 | D45: 男 | E45: 601 | F45: 1501011017 | G45: 教育城初中 | I45: 信宜二中 | J45: 华侨中学 | K45: 0.36360992 | L45: =IF(LEN(D45)=1,1,2) -> 1 | M45: =IF(COUNTIF([1]城中!F:F,F45)=1,"教育城初中",IF(COUNTIF([1]实验!F:F,F45)=1,"实验学校",IF(COUNTIF([1]二中!F:F,F45)=1,"信宜二中",IF(COUNTIF([1]侨中!F:F,F45)=1,"华侨中学","")))) -> 教育城初中
A46: 43 | B46: 教育城小学 | C46: 李琳珺 | D46: 女 | E46: 601 | F46: 1501011030 | G46: 教育城初中 | H46: 实验学校 | I46: 信宜二中 | J46: 华侨中学 | K46: 0.86186121 | L46: =IF(LEN(D46)=1,1,2) -> 1 | M46: =IF(COUNTIF([1]城中!F:F,F46)=1,"教育城初中",IF(COUNTIF([1]实验!F:F,F46)=1,"实验学校",IF(COUNTIF([1]二中!F:F,F46)=1,"信宜二中",IF(COUNTIF([1]侨中!F:F,F46)=1,"华侨中学","")))) -> 信宜二中
A47: 44 | B47: 教育城小学 | C47: 曾楚倩 | D47: 女 | E47: 601 | F47: 1501011041 | G47: 教育城初中 | H47: 实验学校 | I47: 信宜二中 | J47: 华侨中学 | K47: 0.66023105 | L47: =IF(LEN(D47)=1,1,2) -> 1 | M47: =IF(COUNTIF([1]城中!F:F,F47)=1,"教育城初中",IF(COUNTIF([1]实验!F:F,F47)=1,"实验学校",IF(COUNTIF([1]二中!F:F,F47)=1,"信宜二中",IF(COUNTIF([1]侨中!F:F,F47)=1,"华侨中学","")))) -> 实验学校
A48: 45 | B48: 教育城小学 | C48: 刘建言 | D48: 男 | E48: 601 | F48: 1501011045 | I48: 信宜二中 | J48: 华侨中学 | K48: 0.61626379 | L48: =IF(LEN(D48)=1,1,2) -> 1 | M48: =IF(COUNTIF([1]城中!F:F,F48)=1,"教育城初中",IF(COUNTIF([1]实验!F:F,F48)=1,"实验学校",IF(COUNTIF([1]二中!F:F,F48)=1,"信宜二中",IF(COUNTIF([1]侨中!F:F,F48)=1,"华侨中学","")))) -> 信宜二中
A49: 46 | B49: 教育城小学 | C49: 林注荣 | D49: 男 | E49: 601 | F49: 1501011063 | G49: 教育城初中 | H49: 实验学校 | I49: 信宜二中 | J49: 华侨中学 | K49: 0.6779001 | L49: =IF(LEN(D49)=1,1,2) -> 1 | M49: =IF(COUNTIF([1]城中!F:F,F49)=1,"教育城初中",IF(COUNTIF([1]实验!F:F,F49)=1,"实验学校",IF(COUNTIF([1]二中!F:F,F49)=1,"信宜二中",IF(COUNTIF([1]侨中!F:F,F49)=1,"华侨中学","")))) -> 实验学校
A50: 47 | B50: 教育城小学 | C50: 陆冠桦 | D50: 男 | E50: 601 | F50: 1501011064 | G50: 教育城初中 | H50: 实验学校 | I50: 信宜二中 | J50: 华侨中学 | K50: 0.64008449 | L50: =IF(LEN(D50)=1,1,2) -> 1 | M50: =IF(COUNTIF([1]城中!F:F,F50)=1,"教育城初中",IF(COUNTIF([1]实验!F:F,F50)=1,"实验学校",IF(COUNTIF([1]二中!F:F,F50)=1,"信宜二中",IF(COUNTIF([1]侨中!F:F,F50)=1,"华侨中学","")))) -> 实验学校
A51: 48 | B51: 教育城小学 | C51: 张尧茜 | D51: 女 | E51: 601 | F51: 1501011092 | G51: 教育城初中 | H51: 实验学校 | I51: 信宜二中 | J51: 华侨中学 | K51: 0.20088915 | L51: =IF(LEN(D51)=1,1,2) -> 1 | M51: =IF(COUNTIF([1]城中!F:F,F51)=1,"教育城初中",IF(COUNTIF([1]实验!F:F,F51)=1,"实验学校",IF(COUNTIF([1]二中!F:F,F51)=1,"信宜二中",IF(COUNTIF([1]侨中!F:F,F51)=1,"华侨中学","")))) -> 教育城初中
A52: 49 | B52: 教育城小学 | C52: 温倩 | D52: 女 | E52: 601 | F52: 1501011097 | G52: 教育城初中 | H52: 实验学校 | I52: 信宜二中 | J52: 华侨中学 | K52: 0.43277577 | L52: =IF(LEN(D52)=1,1,2) -> 1 | M52: =IF(COUNTIF([1]城中!F:F,F52)=1,"教育城初中",IF(COUNTIF([1]实验!F:F,F52)=1,"实验学校",IF(COUNTIF([1]二中!F:F,F52)=1,"信宜二中",IF(COUNTIF([1]侨中!F:F,F52)=1,"华侨中学","")))) -> 教育城初中
A53: 50 | B53: 教育城小学 | C53: 高自远 | D53: 男 | E53: 601 | F53: 1501011133 | G53: 教育城初中 | H53: 实验学校 | I53: 华侨中学 | J53: 信宜二中 | K53: 0.41083478 | L53: =IF(LEN(D53)=1,1,2) -> 1 | M53: =IF(COUNTIF([1]城中!F:F,F53)=1,"教育城初中",IF(COUNTIF([1]实验!F:F,F53)=1,"实验学校",IF(COUNTIF([1]二中!F:F,F53)=1,"信宜二中",IF(COUNTIF([1]侨中!F:F,F53)=1,"华侨中学","")))) -> 教育城初中
A54: 51 | B54: 教育城小学 | C54: 温镔浩 | D54: 男 | E54: 601 | F54: 1501011148 | G54: 教育城初中 | H54: 实验学校 | I54: 信宜二中 | J54: 华侨中学 | K54: 0.48023664 | L54: =IF(LEN(D54)=1,1,2) -> 1 | M54: =IF(COUNTIF([1]城中!F:F,F54)=1,"教育城初中",IF(COUNTIF([1]实验!F:F,F54)=1,"实验学校",IF(COUNTIF([1]二中!F:F,F54)=1,"信宜二中",IF(COUNTIF([1]侨中!F:F,F54)=1,"华侨中学","")))) -> 教育城初中
A55: 52 | B55: 教育城小学 | C55: 杨联栋 | D55: 男 | E55: 601 | F55: 1501011149 | G55: 教育城初中 | H55: 实验学校 | I55: 信宜二中 | J55: 华侨中学 | K55: 0.37362319 | L55: =IF(LEN(D55)=1,1,2) -> 1 | M55: =IF(COUNTIF([1]城中!F:F,F55)=1,"教育城初中",IF(COUNTIF([1]实验!F:F,F55)=1,"实验学校",IF(COUNTIF([1]二中!F:F,F55)=1,"信宜二中",IF(COUNTIF([1]侨中!F:F,F55)=1,"华侨中学","")))) -> 教育城初中
A56: 53 | B56: 教育城小学 | C56: 梁艺真 | D56: 女 | E56: 601 | F56: 1501011164 | G56: 教育城初中 | H56: 实验学校 | I56: 信宜二中 | J56: 华侨中学 | K56: 0.18203488 | L56: =IF(LEN(D56)=1,1,2) -> 1 | M56: =IF(COUNTIF([1]城中!F:F,F56)=1,"教育城初中",IF(COUNTIF([1]实验!F:F,F56)=1,"实验学校",IF(COUNTIF([1]二中!F:F,F56)=1,"信宜二中",IF(COUNTIF([1]侨中!F:F,F56)=1,"华侨中学","")))) -> 教育城初中
A57: 54 | B57: 教育城小学 | C57: 黎超豪 | D57: 男 | E57: 601 | F57: 1501011174 | G57: 教育城初中 | H57: 实验学校 | I57: 信宜二中 | J57: 华侨中学 | K57: 0.11832045 | L57: =IF(LEN(D57)=1,1,2) -> 1 | M57: =IF(COUNTIF([1]城中!F:F,F57)=1,"教育城初中",IF(COUNTIF([1]实验!F:F,F57)=1,"实验学校",IF(COUNTIF([1]二中!F:F,F57)=1,"信宜二中",IF(COUNTIF([1]侨中!F:F,F57)=1,"华侨中学","")))) -> 教育城初中
A58: 55 | B58: 教育城小学 | C58: 张倍瑜 | D58: 女 | E58: 602 | F58: 1501010022 | G58: 教育城初中 | H58: 实验学校 | I58: 信宜二中 | J58: 华侨中学 | K58: 0.93178987 | L58: =IF(LEN(D58)=1,1,2) -> 1 | M58: =IF(COUNTIF([1]城中!F:F,F58)=1,"教育城初中",IF(COUNTIF([1]实验!F:F,F58)=1,"实验学校",IF(COUNTIF([1]二中!F:F,F58)=1,"信宜二中",IF(COUNTIF([1]侨中!F:F,F58)=1,"华侨中学","")))) -> 华侨中学
A59: 56 | B59: 教育城小学 | C59: 陆科霖 | D59: 男 | E59: 602 | F59: 1501010046 | G59: 教育城初中 | H59: 实验学校 | I59: 信宜二中 | J59: 华侨中学 | K59: 0.41167708 | L59: =IF(LEN(D59)=1,1,2) -> 1 | M59: =IF(COUNTIF([1]城中!F:F,F59)=1,"教育城初中",IF(COUNTIF([1]实验!F:F,F59)=1,"实验学校",IF(COUNTIF([1]二中!F:F,F59)=1,"信宜二中",IF(COUNTIF([1]侨中!F:F,F59)=1,"华侨中学","")))) -> 教育城初中
A60: 57 | B60: 教育城小学 | C60: 李金浇 | D60: 男 | E60: 602 | F60: 1501010056 | G60: 教育城初中 | H60: 实验学校 | I60: 信宜二中 | J60: 华侨中学 | K60: 0.83366126 | L60: =IF(LEN(D60)=1,1,2) -> 1 | M60: =IF(COUNTIF([1]城中!F:F,F60)=1,"教育城初中",IF(COUNTIF([1]实验!F:F,F60)=1,"实验学校",IF(COUNTIF([1]二中!F:F,F60)=1,"信宜二中",IF(COUNTIF([1]侨中!F:F,F60)=1,"华侨中学","")))) -> 信宜二中
... A63: 60 | B63: 教育城小学 | C63: 李玟娴 | D63: 女 | E63: 602 | F63: 1501010186 | G63: 教育城初中 | H63: 实验学校 | I63: 信宜二中 | J63: 华侨中学 | K63: 0.016872042 | L63: =IF(LEN(D63)=1,1,2) -> 1 | M63: =IF(COUNTIF([1]城中!F:F,F63)=1,"教育城初中",IF(COUNTIF([1]实验!F:F,F63)=1,"实验学校",IF(COUNTIF([1]二中!F:F,F63)=1,"信宜二中",IF(COUNTIF([1]侨中!F:F,F63)=1,"华侨中学","")))) -> 教育城初中
A64: 61 | B64: 教育城小学 | C64: 张依柠 | D64: 女 | E64: 602 | F64: 1501010205 | G64: 教育城初中 | I64: 华侨中学 | J64: 信宜二中 | K64: 0.27715417 | L64: =IF(LEN(D64)=1,1,2) -> 1 | M64: =IF(COUNTIF([1]城中!F:F,F64)=1,"教育城初中",IF(COUNTIF([1]实验!F:F,F64)=1,"实验学校",IF(COUNTIF([1]二中!F:F,F64)=1,"信宜二中",IF(COUNTIF([1]侨中!F:F,F64)=1,"华侨中学","")))) -> 教育城初中
A65: 62 | B65: 教育城小学 | C65: 高权灿 | D65: 男 | E65: 602 | F65: 1501010237 | G65: 教育城初中 | H65: 实验学校 | I65: 华侨中学 | J65: 信宜二中 | K65: 0.94601796 | L65: =IF(LEN(D65)=1,1,2) -> 1 | M65: =IF(COUNTIF([1]城中!F:F,F65)=1,"教育城初中",IF(COUNTIF([1]实验!F:F,F65)=1,"实验学校",IF(COUNTIF([1]二中!F:F,F65)=1,"信宜二中",IF(COUNTIF([1]侨中!F:F,F65)=1,"华侨中学","")))) -> 华侨中学
A66: 63 | B66: 教育城小学 | C66: 容芝涵 | D66: 女 | E66: 602 | F66: 1501010238 | G66: 教育城初中 | H66: 实验学校 | I66: 华侨中学 | J66: 信宜二中 | K66: 0.6742699 | L66: =IF(LEN(D66)=1,1,2) -> 1 | M66: =IF(COUNTIF([1]城中!F:F,F66)=1,"教育城初中",IF(COUNTIF([1]实验!F:F,F66)=1,"实验学校",IF(COUNTIF([1]二中!F:F,F66)=1,"信宜二中",IF(COUNTIF([1]侨中!F:F,F66)=1,"华侨中学","")))) -> 实验学校
A67: 64 | B67: 教育城小学 | C67: 卢建良 | D67: 男 | E67: 602 | F67: 1501010259 | G67: 教育城初中 | H67: 实验学校 | I67: 信宜二中 | J67: 华侨中学 | K67: 0.84708919 | L67: =IF(LEN(D67)=1,1,2) -> 1 | M67: =IF(COUNTIF([1]城中!F:F,F67)=1,"教育城初中",IF(COUNTIF([1]实验!F:F,F67)=1,"实验学校",IF(COUNTIF([1]二中!F:F,F67)=1,"信宜二中",IF(COUNTIF([1]侨中!F:F,F67)=1,"华侨中学","")))) -> 信宜二中
A68: 65 | B68: 教育城小学 | C68: 陈晓帅 | D68: 男 | E68: 602 | F68: 1501010281 | G68: 教育城初中 | H68: 实验学校 | I68: 信宜二中 | J68: 华侨中学 | K68: 0.65378144 | L68: =IF(LEN(D68)=1,1,2) -> 1 | M68: =IF(COUNTIF([1]城中!F:F,F68)=1,"教育城初中",IF(COUNTIF([1]实验!F:F,F68)=1,"实验学校",IF(COUNTIF([1]二中!F:F,F68)=1,"信宜二中",IF(COUNTIF([1]侨中!F:F,F68)=1,"华侨中学","")))) -> 实验学校
A69: 66 | B69: 教育城小学 | C69: 李锶琪 | D69: 女 | E69: 602 | F69: 1501010292 | G69: 教育城初中 | H69: 实验学校 | I69: 信宜二中 | J69: 华侨中学 | K69: 0.18823004 | L69: =IF(LEN(D69)=1,1,2) -> 1 | M69: =IF(COUNTIF([1]城中!F:F,F69)=1,"教育城初中",IF(COUNTIF([1]实验!F:F,F69)=1,"实验学校",IF(COUNTIF([1]二中!F:F,F69)=1,"信宜二中",IF(COUNTIF([1]侨中!F:F,F69)=1,"华侨中学","")))) -> 教育城初中
A70: 67 | B70: 教育城小学 | C70: 梁家豪 | D70: 男 | E70: 602 | F70: 1501010312 | G70: 教育城初中 | H70: 实验学校 | I70: 信宜二中 | J70: 华侨中学 | K70: 0.86402184 | L70: =IF(LEN(D70)=1,1,2) -> 1 | M70: =IF(COUNTIF([1]城中!F:F,F70)=1,"教育城初中",IF(COUNTIF([1]实验!F:F,F70)=1,"实验学校",IF(COUNTIF([1]二中!F:F,F70)=1,"信宜二中",IF(COUNTIF([1]侨中!F:F,F70)=1,"华侨中学","")))) -> 信宜二中
A71: 68 | B71: 教育城小学 | C71: 罗子键 | D71: 男 | E71: 602 | F71: 1501010314 | G71: 教育城初中 | H71: 实验学校 | I71: 信宜二中 | J71: 华侨中学 | K71: 0.10366445 | L71: =IF(LEN(D71)=1,1,2) -> 1 | M71: =IF(COUNTIF([1]城中!F:F,F71)=1,"教育城初中",IF(COUNTIF([1]实验!F:F,F71)=1,"实验学校",IF(COUNTIF([1]二中!F:F,F71)=1,"信宜二中",IF(COUNTIF([1]侨中!F:F,F71)=1,"华侨中学","")))) -> 教育城初中
A72: 69 | B72: 教育城小学 | C72: 李美霖 | D72: 女 | E72: 602 | F72: 1501010335 | G72: 教育城初中 | H72: 实验学校 | I72: 信宜二中 | J72: 华侨中学 | K72: 0.37827175 | L72: =IF(LEN(D72)=1,1,2) -> 1 | M72: =IF(COUNTIF([1]城中!F:F,F72)=1,"教育城初中",IF(COUNTIF([1]实验!F:F,F72)=1,"实验学校",IF(COUNTIF([1]二中!F:F,F72)=1,"信宜二中",IF(COUNTIF([1]侨中!F:F,F72)=1,"华侨中学","")))) -> 教育城初中
A73: 70 | B73: 教育城小学 | C73: 丁达彬 | D73: 男 | E73: 602 | F73: 1501010353 | G73: 教育城初中 | H73: 实验学校 | I73: 信宜二中 | J73: 华侨中学 | K73: 0.33601099 | L73: =IF(LEN(D73)=1,1,2) -> 1 | M73: =IF(COUNTIF([1]城中!F:F,F73)=1,"教育城初中",IF(COUNTIF([1]实验!F:F,F73)=1,"实验学校",IF(COUNTIF([1]二中!F:F,F73)=1,"信宜二中",IF(COUNTIF([1]侨中!F:F,F73)=1,"华侨中学","")))) -> 教育城初中
A74: 71 | B74: 教育城小学 | C74: 文浩宇 | D74: 男 | E74: 602 | F74: 1501010360 | G74: 教育城初中 | H74: 实验学校 | I74: 信宜二中 | J74: 华侨中学 | K74: 0.58574421 | L74: =IF(LEN(D74)=1,1,2) -> 1 | M74: =IF(COUNTIF([1]城中!F:F,F74)=1,"教育城初中",IF(COUNTIF([1]实验!F:F,F74)=1,"实验学校",IF(COUNTIF([1]二中!F:F,F74)=1,"信宜二中",IF(COUNTIF([1]侨中!F:F,F74)=1,"华侨中学","")))) -> 实验学校
A75: 72 | B75: 教育城小学 | C75: 梁冀江 | D75: 男 | E75: 602 | F75: 1501010388 | G75: 教育城初中 | H75: 实验学校 | I75: 信宜二中 | J75: 华侨中学 | K75: 0.74625039 | L75: =IF(LEN(D75)=1,1,2) -> 1 | M75: =IF(COUNTIF([1]城中!F:F,F75)=1,"教育城初中",IF(COUNTIF([1]实验!F:F,F75)=1,"实验学校",IF(COUNTIF([1]二中!F:F,F75)=1,"信宜二中",IF(COUNTIF([1]侨中!F:F,F75)=1,"华侨中学","")))) -> 信宜二中
A76: 73 | B76: 教育城小学 | C76: 黄冰滢 | D76: 女 | E76: 602 | F76: 1501010455 | G76: 教育城初中 | H76: 实验学校 | I76: 信宜二中 | J76: 华侨中学 | K76: 0.50997277 | L76: =IF(LEN(D76)=1,1,2) -> 1 | M76: =IF(COUNTIF([1]城中!F:F,F76)=1,"教育城初中",IF(COUNTIF([1]实验!F:F,F76)=1,"实验学校",IF(COUNTIF([1]二中!F:F,F76)=1,"信宜二中",IF(COUNTIF([1]侨中!F:F,F76)=1,"华侨中学","")))) -> 教育城初中
... A80: 77 | B80: 教育城小学 | C80: 唐晓彤 | D80: 女 | E80: 602 | F80: 1501010526 | G80: 教育城初中 | H80: 实验学校 | I80: 信宜二中 | J80: 华侨中学 | K80: 0.6178748 | L80: =IF(LEN(D80)=1,1,2) -> 1 | M80: =IF(COUNTIF([1]城中!F:F,F80)=1,"教育城初中",IF(COUNTIF([1]实验!F:F,F80)=1,"实验学校",IF(COUNTIF([1]二中!F:F,F80)=1,"信宜二中",IF(COUNTIF([1]侨中!F:F,F80)=1,"华侨中学","")))) -> 实验学校
A81: 78 | B81: 教育城小学 | C81: 周展竹 | D81: 女 | E81: 602 | F81: 1501010544 | G81: 教育城初中 | I81: 信宜二中 | J81: 华侨中学 | K81: 0.82563188 | L81: =IF(LEN(D81)=1,1,2) -> 1 | M81: =IF(COUNTIF([1]城中!F:F,F81)=1,"教育城初中",IF(COUNTIF([1]实验!F:F,F81)=1,"实验学校",IF(COUNTIF([1]二中!F:F,F81)=1,"信宜二中",IF(COUNTIF([1]侨中!F:F,F81)=1,"华侨中学","")))) -> 信宜二中
A82: 79 | B82: 教育城小学 | C82: 余明远 | D82: 男 | E82: 602 | F82: 1501010571 | G82: 教育城初中 | H82: 实验学校 | I82: 信宜二中 | J82: 华侨中学 | K82: 0.54342658 | L82: =IF(LEN(D82)=1,1,2) -> 1 | M82: =IF(COUNTIF([1]城中!F:F,F82)=1,"教育城初中",IF(COUNTIF([1]实验!F:F,F82)=1,"实验学校",IF(COUNTIF([1]二中!F:F,F82)=1,"信宜二中",IF(COUNTIF([1]侨中!F:F,F82)=1,"华侨中学","")))) -> 实验学校
A83: 80 | B83: 教育城小学 | C83: 何铭隽 | D83: 男 | E83: 602 | F83: 1501010581 | G83: 教育城初中 | I83: 信宜二中 | J83: 华侨中学 | K83: 0.63315823 | L83: =IF(LEN(D83)=1,1,2) -> 1 | M83: =IF(COUNTIF([1]城中!F:F,F83)=1,"教育城初中",IF(COUNTIF([1]实验!F:F,F83)=1,"实验学校",IF(COUNTIF([1]二中!F:F,F83)=1,"信宜二中",IF(COUNTIF([1]侨中!F:F,F83)=1,"华侨中学","")))) -> 信宜二中
A84: 81 | B84: 教育城小学 | C84: 黎雯萍 | D84: 女 | E84: 602 | F84: 1501010594 | G84: 教育城初中 | H84: 实验学校 | I84: 信宜二中 | J84: 华侨中学 | K84: 0.28154959 | L84: =IF(LEN(D84)=1,1,2) -> 1 | M84: =IF(COUNTIF([1]城中!F:F,F84)=1,"教育城初中",IF(COUNTIF([1]实验!F:F,F84)=1,"实验学校",IF(COUNTIF([1]二中!F:F,F84)=1,"信宜二中",IF(COUNTIF([1]侨中!F:F,F84)=1,"华侨中学","")))) -> 教育城初中
A85: 82 | B85: 教育城小学 | C85: 赖豪杰 | D85: 男 | E85: 602 | F85: 1501010659 | G85: 教育城初中 | H85: 实验学校 | I85: 信宜二中 | J85: 华侨中学 | K85: 0.80474302 | L85: =IF(LEN(D85)=1,1,2) -> 1 | M85: =IF(COUNTIF([1]城中!F:F,F85)=1,"教育城初中",IF(COUNTIF([1]实验!F:F,F85)=1,"实验学校",IF(COUNTIF([1]二中!F:F,F85)=1,"信宜二中",IF(COUNTIF([1]侨中!F:F,F85)=1,"华侨中学","")))) -> 信宜二中
A86: 83 | B86: 教育城小学 | C86: 王琳荧 | D86: 女 | E86: 602 | F86: 1501010671 | G86: 教育城初中 | H86: 实验学校 | I86: 信宜二中 | J86: 华侨中学 | K86: 0.32995448 | L86: =IF(LEN(D86)=1,1,2) -> 1 | M86: =IF(COUNTIF([1]城中!F:F,F86)=1,"教育城初中",IF(COUNTIF([1]实验!F:F,F86)=1,"实验学校",IF(COUNTIF([1]二中!F:F,F86)=1,"信宜二中",IF(COUNTIF([1]侨中!F:F,F86)=1,"华侨中学","")))) -> 教育城初中
A87: 84 | B87: 教育城小学 | C87: 张宇浩 | D87: 男 | E87: 602 | F87: 1501010693 | G87: 教育城初中 | H87: 实验学校 | I87: 信宜二中 | J87: 华侨中学 | K87: 0.59851497 | L87: =IF(LEN(D87)=1,1,2) -> 1 | M87: =IF(COUNTIF([1]城中!F:F,F87)=1,"教育城初中",IF(COUNTIF([1]实验!F:F,F87)=1,"实验学校",IF(COUNTIF([1]二中!F:F,F87)=1,"信宜二中",IF(COUNTIF([1]侨中!F:F,F87)=1,"华侨中学","")))) -> 实验学校
A88: 85 | B88: 教育城小学 | C88: 丁灿 | D88: 男 | E88: 602 | F88: 1501010750 | G88: 教育城初中 | H88: 实验学校 | I88: 信宜二中 | J88: 华侨中学 | K88: 0.15985133 | L88: =IF(LEN(D88)=1,1,2) -> 1 | M88: =IF(COUNTIF([1]城中!F:F,F88)=1,"教育城初中",IF(COUNTIF([1]实验!F:F,F88)=1,"实验学校",IF(COUNTIF([1]二中!F:F,F88)=1,"信宜二中",IF(COUNTIF([1]侨中!F:F,F88)=1,"华侨中学","")))) -> 教育城初中
A89: 86 | B89: 教育城小学 | C89: 梁榆敏 | D89: 女 | E89: 602 | F89: 1501010766 | G89: 教育城初中 | H89: 实验学校 | I89: 信宜二中 | J89: 华侨中学 | K89: 0.98735472 | L89: =IF(LEN(D89)=1,1,2) -> 1 | M89: =IF(COUNTIF([1]城中!F:F,F89)=1,"教育城初中",IF(COUNTIF([1]实验!F:F,F89)=1,"实验学校",IF(COUNTIF([1]二中!F:F,F89)=1,"信宜二中",IF(COUNTIF([1]侨中!F:F,F89)=1,"华侨中学","")))) -> 华侨中学
A90: 87 | B90: 教育城小学 | C90: 蔡彦锋 | D90: 男 | E90: 602 | F90: 1501010774 | G90: 教育城初中 | H90: 实验学校 | I90: 信宜二中 | J90: 华侨中学 | K90: 0.25240993 | L90: =IF(LEN(D90)=1,1,2) -> 1 | M90: =IF(COUNTIF([1]城中!F:F,F90)=1,"教育城初中",IF(COUNTIF([1]实验!F:F,F90)=1,"实验学校",IF(COUNTIF([1]二中!F:F,F90)=1,"信宜二中",IF(COUNTIF([1]侨中!F:F,F90)=1,"华侨中学","")))) -> 教育城初中
A91: 88 | B91: 教育城小学 | C91: 许羡喻 | D91: 女 | E91: 602 | F91: 1501010784 | G91: 教育城初中 | H91: 实验学校 | I91: 信宜二中 | J91: 华侨中学 | K91: 0.2018502 | L91: =IF(LEN(D91)=1,1,2) -> 1 | M91: =IF(COUNTIF([1]城中!F:F,F91)=1,"教育城初中",IF(COUNTIF([1]实验!F:F,F91)=1,"实验学校",IF(COUNTIF([1]二中!F:F,F91)=1,"信宜二中",IF(COUNTIF([1]侨中!F:F,F91)=1,"华侨中学","")))) -> 教育城初中
A92: 89 | B92: 教育城小学 | C92: 沈宝润 | D92: 男 | E92: 602 | F92: 1501010832 | G92: 教育城初中 | H92: 实验学校 | I92: 信宜二中 | J92: 华侨中学 | K92: 0.57202349 | L92: =IF(LEN(D92)=1,1,2) -> 1 | M92: =IF(COUNTIF([1]城中!F:F,F92)=1,"教育城初中",IF(COUNTIF([1]实验!F:F,F92)=1,"实验学校",IF(COUNTIF([1]二中!F:F,F92)=1,"信宜二中",IF(COUNTIF([1]侨中!F:F,F92)=1,"华侨中学","")))) -> 实验学校
A93: 90 | B93: 教育城小学 | C93: 李东明 | D93: 男 | E93: 602 | F93: 1501010834 | G93: 教育城初中 | H93: 实验学校 | I93: 信宜二中 | J93: 华侨中学 | K93: 0.2507905 | L93: =IF(LEN(D93)=1,1,2) -> 1 | M93: =IF(COUNTIF([1]城中!F:F,F93)=1,"教育城初中",IF(COUNTIF([1]实验!F:F,F93)=1,"实验学校",IF(COUNTIF([1]二中!F:F,F93)=1,"信宜二中",IF(COUNTIF([1]侨中!F:F,F93)=1,"华侨中学","")))) -> 教育城初中
A94: 91 | B94: 教育城小学 | C94: 梁铭国 | D94: 男 | E94: 602 | F94: 1501010836 | G94: 教育城初中 | H94: 实验学校 | I94: 信宜二中 | J94: 华侨中学 | K94: 0.048351464 | L94: =IF(LEN(D94)=1,1,2) -> 1 | M94: =IF(COUNTIF([1]城中!F:F,F94)=1,"教育城初中",IF(COUNTIF([1]实验!F:F,F94)=1,"实验学校",IF(COUNTIF([1]二中!F:F,F94)=1,"信宜二中",IF(COUNTIF([1]侨中!F:F,F94)=1,"华侨中学","")))) -> 教育城初中
A95: 92 | B95: 教育城小学 | C95: 刘桂良 | D95: 男 | E95: 602 | F95: 1501010848 | G95: 教育城初中 | H95: 实验学校 | I95: 信宜二中 | J95: 华侨中学 | K95: 0.60361881 | L95: =IF(LEN(D95)=1,1,2) -> 1 | M95: =IF(COUNTIF([1]城中!F:F,F95)=1,"教育城初中",IF(COUNTIF([1]实验!F:F,F95)=1,"实验学校",IF(COUNTIF([1]二中!F:F,F95)=1,"信宜二中",IF(COUNTIF([1]侨中!F:F,F95)=1,"华侨中学","")))) -> 实验学校
A96: 93 | B96: 教育城小学 | C96: 张峻航 | D96: 男 | E96: 602 | F96: 1501010854 | G96: 教育城初中 | I96: 信宜二中 | J96: 华侨中学 | K96: 0.25992969 | L96: =IF(LEN(D96)=1,1,2) -> 1 | M96: =IF(COUNTIF([1]城中!F:F,F96)=1,"教育城初中",IF(COUNTIF([1]实验!F:F,F96)=1,"实验学校",IF(COUNTIF([1]二中!F:F,F96)=1,"信宜二中",IF(COUNTIF([1]侨中!F:F,F96)=1,"华侨中学","")))) -> 教育城初中
A97: 94 | B97: 教育城小学 | C97: 韦柏霖 | D97: 男 | E97: 602 | F97: 1501010899 | G97: 教育城初中 | H97: 实验学校 | I97: 信宜二中 | J97: 华侨中学 | K97: 0.0071818101 | L97: =IF(LEN(D97)=1,1,2) -> 1 | M97: =IF(COUNTIF([1]城中!F:F,F97)=1,"教育城初中",IF(COUNTIF([1]实验!F:F,F97)=1,"实验学校",IF(COUNTIF([1]二中!F:F,F97)=1,"信宜二中",IF(COUNTIF([1]侨中!F:F,F97)=1,"华侨中学","")))) -> 教育城初中
A98: 95 | B98: 教育城小学 | C98: 黄可昕 | D98: 女 | E98: 602 | F98: 1501010950 | G98: 教育城初中 | H98: 实验学校 | I98: 华侨中学 | J98: 信宜二中 | K98: 0.84004424 | L98: =IF(LEN(D98)=1,1,2) -> 1 | M98: =IF(COUNTIF([1]城中!F:F,F98)=1,"教育城初中",IF(COUNTIF([1]实验!F:F,F98)=1,"实验学校",IF(COUNTIF([1]二中!F:F,F98)=1,"信宜二中",IF(COUNTIF([1]侨中!F:F,F98)=1,"华侨中学","")))) -> 华侨中学
A99: 96 | B99: 教育城小学 | C99: 欧衡焕 | D99: 男 | E99: 602 | F99: 1501010954 | G99: 教育城初中 | H99: 实验学校 | I99: 信宜二中 | J99: 华侨中学 | K99: 0.52750718 | L99: =IF(LEN(D99)=1,1,2) -> 1 | M99: =IF(COUNTIF([1]城中!F:F,F99)=1,"教育城初中",IF(COUNTIF([1]实验!F:F,F99)=1,"实验学校",IF(COUNTIF([1]二中!F:F,F99)=1,"信宜二中",IF(COUNTIF([1]侨中!F:F,F99)=1,"华侨中学","")))) -> 实验学校
A100: 97 | B100: 教育城小学 | C100: 梁雅馨 | D100: 女 | E100: 602 | F100: 1501010983 | G100: 教育城初中 | H100: 实验学校 | I100: 信宜二中 | J100: 华侨中学 | K100: 0.66502256 | L100: =IF(LEN(D100)=1,1,2) -> 1 | M100: =IF(COUNTIF([1]城中!F:F,F100)=1,"教育城初中",IF(COUNTIF([1]实验!F:F,F100)=1,"实验学校",IF(COUNTIF([1]二中!F:F,F100)=1,"信宜二中",IF(COUNTIF([1]侨中!F:F,F100)=1,"华侨中学","")))) -> 实验学校
A101: 98 | B101: 教育城小学 | C101: 余尚阳 | D101: 男 | E101: 602 | F101: 1501010986 | G101: 教育城初中 | H101: 实验学校 | I101: 信宜二中 | J101: 华侨中学 | K101: 0.85067728 | L101: =IF(LEN(D101)=1,1,2) -> 1 | M101: =IF(COUNTIF([1]城中!F:F,F101)=1,"教育城初中",IF(COUNTIF([1]实验!F:F,F101)=1,"实验学校",IF(COUNTIF([1]二中!F:F,F101)=1,"信宜二中",IF(COUNTIF([1]侨中!F:F,F101)=1,"华侨中学","")))) -> 信宜二中
A102: 99 | B102: 教育城小学 | C102: 邹欣妙 | D102: 女 | E102: 602 | F102: 1501011005 | G102: 教育城初中 | H102: 实验学校 | I102: 信宜二中 | J102: 华侨中学 | K102: 0.39644123 | L102: =IF(LEN(D102)=1,1,2) -> 1 | M102: =IF(COUNTIF([1]城中!F:F,F102)=1,"教育城初中",IF(COUNTIF([1]实验!F:F,F102)=1,"实验学校",IF(COUNTIF([1]二中!F:F,F102)=1,"信宜二中",IF(COUNTIF([1]侨中!F:F,F102)=1,"华侨中学","")))) -> 教育城初中
A103: 100 | B103: 教育城小学 | C103: 彭学森 | D103: 男 | E103: 602 | F103: 1501011021 | G103: 教育城初中 | H103: 实验学校 | I103: 信宜二中 | J103: 华侨中学 | K103: 0.55478351 | L103: =IF(LEN(D103)=1,1,2) -> 1 | M103: =IF(COUNTIF([1]城中!F:F,F103)=1,"教育城初中",IF(COUNTIF([1]实验!F:F,F103)=1,"实验学校",IF(COUNTIF([1]二中!F:F,F103)=1,"信宜二中",IF(COUNTIF([1]侨中!F:F,F103)=1,"华侨中学","")))) -> 实验学校
A104: 101 | B104: 教育城小学 | C104: 陈子伦 | D104: 男 | E104: 602 | F104: 1501011047 | G104: 教育城初中 | H104: 实验学校 | I104: 信宜二中 | J104: 华侨中学 | K104: 0.61028928 | L104: =IF(LEN(D104)=1,1,2) -> 1 | M104: =IF(COUNTIF([1]城中!F:F,F104)=1,"教育城初中",IF(COUNTIF([1]实验!F:F,F104)=1,"实验学校",IF(COUNTIF([1]二中!F:F,F104)=1,"信宜二中",IF(COUNTIF([1]侨中!F:F,F104)=1,"华侨中学","")))) -> 实验学校
A105: 102 | B105: 教育城小学 | C105: 梁巧茵 | D105: 女 | E105: 602 | F105: 1501011051 | G105: 教育城初中 | H105: 实验学校 | I105: 华侨中学 | J105: 信宜二中 | K105: 0.60325446 | L105: =IF(LEN(D105)=1,1,2) -> 1 | M105: =IF(COUNTIF([1]城中!F:F,F105)=1,"教育城初中",IF(COUNTIF([1]实验!F:F,F105)=1,"实验学校",IF(COUNTIF([1]二中!F:F,F105)=1,"信宜二中",IF(COUNTIF([1]侨中!F:F,F105)=1,"华侨中学","")))) -> 实验学校
...

Sheet Sheet2

Sheet Sheet3
