Workbook

Sheet Sheet1
G1: 2021年市直毕业生录取结果
G2: 民办学校 | I2: 公办学校
A3: 序号 | B3: 毕业学校 | C3: 学生姓名 | D3: 性别 | E3: 班别 | F3: 考试号 | G3: 教育城初中 | H3: 实验学校 | I3: 第一志愿 | J3: 第二志愿 | K3: 随机抽签号 | L3: 人数 | M3: 录取学校
A4: 1 | B4: 教育城小学 | C4: 王译浩 | D4: 男 | E4: 601 | F4: 1501010006 | G4: 教育城初中 | H4: 实验学校 | I4: 信宜二中 | J4: 华侨中学 | K4: 0.36226803 | L4: =IF(LEN(D4)=1,1,2) -> 1 | M4: =IF(COUNTIF([1]城中!F:F,F4)=1,"教育城初中",IF(COUNTIF([1]实验!F:F,F4)=1,"实验学校",IF(COUNTIF([1]二中!F:F,F4)=1,"信宜二中",IF(COUNTIF([1]侨中!F:F,F4)=1,"华侨中学","")))) -> 教育城初中
A5: 2 | B5: 教育城小学 | C5: 吴秉轩 | D5: 男 | E5: 601 | F5: 1501010017 | G5: 教育城初中 | H5: 实验学校 | I5: 信宜二中 | J5: 华侨中学 | K5: 0.23333621 | L5: =IF(LEN(D5)=1,1,2) -> 1 | M5: =IF(COUNTIF([1]城中!F:F,F5)=1,"教育城初中",IF(COUNTIF([1]实验!F:F,F5)=1,"实验学校",IF(COUNTIF([1]二中!F:F,F5)=1,"信宜二中",IF(COUNTIF([1]侨中!F:F,F5)=1,"华侨中学","")))) -> 教育城初中
A6: 3 | B6: 教育城小学 | C6: 黄进勇 | D6: 男 | E6: 601 | F6: 1501010020 | G6: 教育城初中 | H6: 实验学校 | I6: 信宜二中 | J6: 华侨中学 | K6: 0.7559992 | L6: =IF(LEN(D6)=1,1,2) -> 1 | M6: =IF(COUNTIF([1]城中!F:F,F6)=1,"教育城初中",IF(COUNTIF([1]实验!F:F,F6)=1,"实验学校",IF(COUNTIF([1]二中!F:F,F6)=1,"信宜二中",IF(COUNTIF([1]侨中!F:F,F6)=1,"华侨中学","")))) -> 信宜二中
A7: 4 | B7: 教育城小学 | C7: 周思博 | D7: 女 | E7: 601 | F7: 1501010023 | G7: 教育城初中 | H7: 实验学校 | I7: 信宜二中 | J7: 华侨中学 | K7: 0.83416537 | L7: =IF(LEN(D7)=1,1,2) -> 1 | M7: =IF(COUNTIF([1]城中!F:F,F7)=1,"教育城初中",IF(COUNTIF([1]实验!F:F,F7)=1,"实验学校",IF(COUNTIF([1]二中!F:F,F7)=1,"信宜二中",IF(COUNTIF([1]侨中!F:F,F7)=1,"华侨中学","")))) -> 信宜二中
A8: 5 | B8: 教育城小学 | C8: 甘培政 | D8: 男 | E8: 601 | F8: 1501010040 | G8: 教育城初中 | H8: 实验学校 | I8: 信宜二中 | J8: 华侨中学 | K8: 0.52758722 | L8: =IF(LEN(D8)=1,1,2) -> 1 | M8: =IF(COUNTIF([1]城中!F:F,F8)=1,"教育城初中",IF(COUNTIF([1]实验!F:F,F8)=1,"实验学校",IF(COUNTIF([1]二中!F:F,F8)=1,"信宜二中",IF(COUNTIF([1]侨中!F:F,F8)=1,"华侨中学","")))) -> 实验学校
A9: 6 | B9: 教育城小学 | C9: 刘贤 | D9: 女 | E9: 601 | F9: 1501010050 | G9: 教育城初中 | H9: 实验学校 | I9: 信宜二中 | J9: 华侨中学 | K9: 0.8048027 | L9: =IF(LEN(D9)=1,1,2) -> 1 | M9: =IF(COUNTIF([1]城中!F:F,F9)=1,"教育城初中",IF(COUNTIF([1]实验!F:F,F9)=1,"实验学校",IF(COUNTIF([1]二中!F:F,F9)=1,"信宜二中",IF(COUNTIF([1]侨中!F:F,F9)=1,"华侨中学","")))) -> 信宜二中
A10: 7 | B10: 教育城小学 | C10: 黎政钊 | D10: 男 | E10: 601 | F10: 1501010067 | G10: 教育城初中 | H10: 实验学校 | I10: 信宜二中 | J10: 华侨中学 | K10: 0.070185456 | L10: =IF(LEN(D10)=1,1,2) -> 1 | M10: =IF(COUNTIF([1]城中!F:F,F10)=1,"教育城初中",IF(COUNTIF([1]实验!F:F,F10)=1,"实验学校",IF(COUNTIF([1]二中!F:F,F10)=1,"信宜二中",IF(COUNTIF([1]侨中!F:F,F10)=1,"华侨中学","")))) -> 教育城初中
A11: 8 | B11: 教育城小学 | C11: 黎锦源 | D11: 男 | E11: 601 | F11: 1501010128 | G11: 教育城初中 | H11: 实验学校 | I11: 华侨中学 | J11: 信宜二中 | K11: 0.67473582 | L11: =IF(LEN(D11)=1,1,2) -> 1 | M11: =IF(COUNTIF([1]城中!F:F,F11)=1,"教育城初中",IF(COUNTIF([1]实验!F:F,F11)=1,"实验学校",IF(COUNTIF([1]二中!F:F,F11)=1,"信宜二中",IF(COUNTIF([1]侨中!F:F,F11)=1,"华侨中学","")))) -> 实验学校
A12: 9 | B12: 教育城小学 | C12: 曾子扬 | D12: 男 | E12: 601 | F12: 1501010149 | G12: 教育城初中 | I12: 华侨中学 | K12: 0.94984036 | L12: =IF(LEN(D12)=1,1,2) -> 1 | M12: =IF(COUNTIF([1]城中!F:F,F12)=1,"教育城初中",IF(COUNTIF([1]实验!F:F,F12)=1,"实验学校",IF(COUNTIF([1]二中!F:F,F12)=1,"信宜二中",IF(COUNTIF([1]侨中!F:F,F12)=1,"华侨中学","")))) -> 华侨中学
A13: 10 | B13: 教育城小学 | C13: 黄逸禧 | D13: 男 | E13: 601 | F13: 1501010160 | G13: 教育城初中 | H13: 实验学校 | I13: 华侨中学 | J13: 信宜二中 | K13: 0.98230877 | L13: =IF(LEN(D13)=1,1,2) -> 1 | M13: =IF(COUNTIF([1]城中!F:F,F13)=1,"教育城初中",IF(COUNTIF([1]实验!F:F,F13)=1,"实验学校",IF(COUNTIF([1]二中!F:F,F13)=1,"信宜二中",IF(COUNTIF([1]侨中!F:F,F13)=1,"华侨中学","")))) -> 华侨中学
A14: 11 | B14: 教育城小学 | C14: 宁菲 | D14: 女 | E14: 601 | F14: 1501010179 | G14: 教育城初中 | H14: 实验学校 | I14: 信宜二中 | J14: 华侨中学 | K14: 0.070716928 | L14: =IF(LEN(D14)=1,1,2) -> 1 | M14: =IF(COUNTIF([1]城中!F:F,F14)=1,"教育城初中",IF(COUNTIF([1]实验!F:F,F14)=1,"实验学校",IF(COUNTIF([1]二中!F:F,F14)=1,"信宜二中",IF(COUNTIF([1]侨中!F:F,F14)=1,"华侨中学","")))) -> 教育城初中
A15: 12 | B15: 教育城小学 | C15: 莫沛谕 | D15: 女 | E15: 601 | F15: 1501010192 | G15: 教育城初中 | H15: 实验学校 | I15: 信宜二中 | J15: 华侨中学 | K15: 0.20191481 | L15: =IF(LEN(D15)=1,1,2) -> 1 | M15: =IF(COUNTIF([1]城中!F:F,F15)=1,"教育城初中",IF(COUNTIF([1]实验!F:F,F15)=1,"实验学校",IF(COUNTIF([1]二中!F:F,F15)=1,"信宜二中",IF(COUNTIF([1]侨中!F:F,F15)=1,"华侨中学","")))) -> 教育城初中
A16: 13 | B16: 教育城小学 | C16: 黄千城 | D16: 男 | E16: 601 | F16: 1501010221 | G16: 教育城初中 | H16: 实验学校 | I16: 信宜二中 | J16: 华侨中学 | K16: 0.23647431 | L16: =IF(LEN(D16)=1,1,2) -> 1 | M16: =IF(COUNTIF([1]城中!F:F,F16)=1,"教育城初中",IF(COUNTIF([1]实验!F:F,F16)=1,"实验学校",IF(COUNTIF([1]二中!F:F,F16)=1,"信宜二中",IF(COUNTIF([1]侨中!F:F,F16)=1,"华侨中学","")))) -> 教育城初中
A17: 14 | B17: 教育城小学 | C17: 黎钧浩 | D17: 男 | E17: 601 | F17: 1501010225 | G17: 教育城初中 | H17: 实验学校 | I17: 信宜二中 | J17: 华侨中学 | K17: 0.34619441 | L17: =IF(LEN(D17)=1,1,2) -> 1 | M17: =IF(COUNTIF([1]城中!F:F,F17)=1,"教育城初中",IF(COUNTIF([1]实验!F:F,F17)=1,"实验学校",IF(COUNTIF([1]二中!F:F,F17)=1,"信宜二中",IF(COUNTIF([1]侨中!F:F,F17)=1,"华侨中学","")))) -> 教育城初中
A18: 15 | B18: 教育城小学 | C18: 谭锦锋 | D18: 男 | E18: 601 | F18: 1501010241 | G18: 教育城初中 | H18: 实验学校 | I18: 信宜二中 | J18: 华侨中学 | K18: 0.24837942 | L18: =IF(LEN(D18)=1,1,2) -> 1 | M18: =IF(COUNTIF([1]城中!F:F,F18)=1,"教育城初中",IF(COUNTIF([1]实验!F:F,F18)=1,"实验学校",IF(COUNTIF([1]二中!F:F,F18)=1,"信宜二中",IF(COUNTIF([1]侨中!F:F,F18)=1,"华侨中学","")))) -> 教育城初中
A19: 16 | B19: 教育城小学 | C19: 李彦泽 | D19: 男 | E19: 601 | F19: 1501010340 | G19: 教育城初中 | H19: 实验学校 | I19: 华侨中学 | J19: 信宜二中 | K19: 0.089136864 | L19: =IF(LEN(D19)=1,1,2) -> 1 | M19: =IF(COUNTIF([1]城中!F:F,F19)=1,"教育城初中",IF(COUNTIF([1]实验!F:F,F19)=1,"实验学校",IF(COUNTIF([1]二中!F:F,F19)=1,"信宜二中",IF(COUNTIF([1]侨中!F:F,F19)=1,"华侨中学","")))) -> 教育城初中
A20: 17 | B20: 教育城小学 | C20: 郝星 | D20: 女 | E20: 601 | F20: 1501010345 | G20: 教育城初中 | H20: 实验学校 | I20: 信宜二中 | J20: 华侨中学 | K20: 0.55046395 | L20: =IF(LEN(D20)=1,1,2) -> 1 | M20: =IF(COUNTIF([1]城中!F:F,F20)=1,"教育城初中",IF(COUNTIF([1]实验!F:F,F20)=1,"实验学校",IF(COUNTIF([1]二中!F:F,F20)=1,"信宜二中",IF(COUNTIF([1]侨中!F:F,F20)=1,"华侨中学","")))) -> 实验学校
A21: 18 | B21: 教育城小学 | C21: 邱榆芸 | D21: 女 | E21: 601 | F21: 1501010351 | G21: 教育城初中 | H21: 实验学校 | I21: 信宜二中 | J21: 华侨中学 | K21: 0.64693018 | L21: =IF(LEN(D21)=1,1,2) -> 1 | M21: =IF(COUNTIF([1]城中!F:F,F21)=1,"教育城初中",IF(COUNTIF([1]实验!F:F,F21)=1,"实验学校",IF(COUNTIF([1]二中!F:F,F21)=1,"信宜二中",IF(COUNTIF([1]侨中!F:F,F21)=1,"华侨中学","")))) -> 实验学校
A22: 19 | B22: 教育城小学 | C22: 张彩桃 | D22: 女 | E22: 601 | F22: 1501010393 | G22: 教育城初中 | I22: 信宜二中 | K22: 0.54406722 | L22: =IF(LEN(D22)=1,1,2) -> 1 | M22: =IF(COUNTIF([1]城中!F:F,F22)=1,"教育城初中",IF(COUNTIF([1]实验!F:F,F22)=1,"实验学校",IF(COUNTIF([1]二中!F:F,F22)=1,"信宜二中",IF(COUNTIF([1]侨中!F:F,F22)=1,"华侨中学","")))) -> 信宜二中
A23: 20 | B23: 教育城小学 | C23: 赖嘉煌 | D23: 男 | E23: 601 | F23: 1501010408 | G23: 教育城初中 | I23: 信宜二中 | J23: 华侨中学 | K23: 0.07286218 | L23: =IF(LEN(D23)=1,1,2) -> 1 | M23: =IF(COUNTIF([1]城中!F:F,F23)=1,"教育城初中",IF(COUNTIF([1]实验!F:F,F23)=1,"实验学校",IF(COUNTIF([1]二中!F:F,F23)=1,"信宜二中",IF(COUNTIF([1]侨中!F:F,F23)=1,"华侨中学","")))) -> 教育城初中
A24: 21 | B24: 教育城小学 | C24: 朱峰毅 | D24: 男 | E24: 601 | F24: 1501010428 | G24: 教育城初中 | H24: 实验学校 | I24: 信宜二中 | J24: 华侨中学 | K24: 0.87176466 | L24: =IF(LEN(D24)=1,1,2) -> 1 | M24: =IF(COUNTIF([1]城中!F:F,F24)=1,"教育城初中",IF(COUNTIF([1]实验!F:F,F24)=1,"实验学校",IF(COUNTIF([1]二中!F:F,F24)=1,"信宜二中",IF(COUNTIF([1]侨中!F:F,F24)=1,"华侨中学","")))) -> 信宜二中
A25: 22 | B25: 教育城小学 | C25: 张宇悦 | D25: 男 | E25: 601 | F25: 1501010429 | G25: 教育城初中 | H25: 实验学校 | I25: 信宜二中 | J25: 华侨中学 | K25: 0.8728214 | L25: =IF(LEN(D25)=1,1,2) -> 1 | M25: =IF(COUNTIF([1]城中!F:F,F25)=1,"教育城初中",IF(COUNTIF([1]实验!F:F,F25)=1,"实验学校",IF(COUNTIF([1]二中!F:F,F25)=1,"信宜二中",IF(COUNTIF([1]侨中!F:F,F25)=1,"华侨中学","")))) -> 信宜二中
A26: 23 | B26: 教育城小学 | C26: 潘泽铭 | D26: 男 | E26: 601 | F26: 1501010472 | G26: 教育城初中 | H26: 实验学校 | I26: 信宜二中 | J26: 华侨中学 | K26: 0.42131927 | L26: =IF(LEN(D26)=1,1,2) -> 1 | M26: =IF(COUNTIF([1]城中!F:F,F26)=1,"教育城初中",IF(COUNTIF([1]实验!F:F,F26)=1,"实验学校",IF(COUNTIF([1]二中!F:F,F26)=1,"信宜二中",IF(COUNTIF([1]侨中!F:F,F26)=1,"华侨中学","")))) -> 教育城初中
A27: 24 | B27: 教育城小学 | C27: 陆锦鸿 | D27: 男 | E27: 601 | F27: 1501010508 | G27: 教育城初中 | H27: 实验学校 | I27: 信宜二中 | J27: 华侨中学 | K27: 0.90526118 | L27: =IF(LEN(D27)=1,1,2) -> 1 | M27: =IF(COUNTIF([1]城中!F:F,F27)=1,"教育城初中",IF(COUNTIF([1]实验!F:F,F27)=1,"实验学校",IF(COUNTIF([1]二中!F:F,F27)=1,"信宜二中",IF(COUNTIF([1]侨中!F:F,F27)=1,"华侨中学","")))) -> 信宜二中
A28: 25 | B28: 教育城小学 | C28: 罗铭君 | D28: 男 | E28: 601 | F28: 1501010539 | G28: 教育城初中 | H28: 实验学校 | I28: 信宜二中 | J28: 华侨中学 | K28: 0.20616206 | L28: =IF(LEN(D28)=1,1,2) -> 1 | M28: =IF(COUNTIF([1]城中!F:F,F28)=1,"教育城初中",IF(COUNTIF([1]实验!F:F,F28)=1,"实验学校",IF(COUNTIF([1]二中!F:F,F28)=1,"信宜二中",IF(COUNTIF([1]侨中!F:F,F28)=1,"华侨中学","")))) -> 教育城初中
A29: 26 | B29: 教育城小学 | C29: 黎明玥 | D29: 女 | E29: 601 | F29: 1501010570 | G29: 教育城初中 | H29: 实验学校 | I29: 信宜二中 | J29: 华侨中学 | K29: 0.85534957 | L29: =IF(LEN(D29)=1,1,2) -> 1 | M29: =IF(COUNTIF([1]城中!F:F,F29)=1,"教育城初中",IF(COUNTIF([1]实验!F:F,F29)=1,"实验学校",IF(COUNTIF([1]二中!F:F,F29)=1,"信宜二中",IF(COUNTIF([1]侨中!F:F,F29)=1,"华侨中学","")))) -> 信宜二中
A30: 27 | B30: 教育城小学 | C30: 林浩云 | D30: 男 | E30: 601 | F30: 1501010577 | G30: 教育城初中 | H30: 实验学校 | I30: 信宜二中 | J30: 华侨中学 | K30: 0.05259325 | L30: =IF(LEN(D30)=1,1,2) -> 1 | M30: =IF(COUNTIF([1]城中!F:F,F30)=1,"教育城初中",IF(COUNTIF([1]实验!F:F,F30)=1,"实验学校",IF(COUNTIF([1]二中!F:F,F30)=1,"信宜二中",IF(COUNTIF([1]侨中!F:F,F30)=1,"华侨中学","")))) -> 教育城初中
A31: 28 | B31: 教育城小学 | C31: 梁钧皓 | D31: 男 | E31: 601 | F31: 1501010592 | G31: 教育城初中 | H31: 实验学校 | I31: 信宜二中 | J31: 华侨中学 | K31: 0.74167854 | L31: =IF(LEN(D31)=1,1,2) -> 1 | M31: =IF(COUNTIF([1]城中!F:F,F31)=1,"教育城初中",IF(COUNTIF([1]实验!F:F,F31)=1,"实验学校",IF(COUNTIF([1]二中!F:F,F31)=1,"信宜二中",IF(COUNTIF([1]侨中!F:F,F31)=1,"华侨中学","")))) -> 信宜二中
A32: 29 | B32: 教育城小学 | C32: 罗嘉惠 | D32: 女 | E32: 601 | F32: 1501010599 | G32: 教育城初中 | H32: 实验学校 | I32: 信宜二中 | J32: 华侨中学 | K32: 0.034091883 | L32: =IF(LEN(D32)=1,1,2) -> 1 | M32: =IF(COUNTIF([1]城中!F:F,F32)=1,"教育城初中",IF(COUNTIF([1]实验!F:F,F32)=1,"实验学校",IF(COUNTIF([1]二中!F:F,F32)=1,"信宜二中",IF(COUNTIF([1]侨中!F:F,F32)=1,"华侨中学","")))) -> 教育城初中
A33: 30 | B33: 教育城小学 | C33: 刘湘如 | D33: 女 | E33: 601 | F33: 1501010616 | G33: 教育城初中 | H33: 实验学校 | I33: 信宜二中 | J33: 华侨中学 | K33: 0.73466121 | L33: =IF(LEN(D33)=1,1,2) -> 1 | M33: =IF(COUNTIF([1]城中!F:F,F33)=1,"教育城初中",IF(COUNTIF([1]实验!F:F,F33)=1,"实验学校",IF(COUNTIF([1]二中!F:F,F33)=1,"信宜二中",IF(COUNTIF([1]侨中!F:F,F33)=1,"华侨中学","")))) -> 信宜二中
A34: 31 | B34: 教育城小学 | C34: 罗奕钦 | D34: 男 | E34: 601 | F34: 1501010617 | G34: 教育城初中 | H34: 实验学校 | I34: 信宜二中 | J34: 华侨中学 | K34: 0.060246723 | L34: =IF(LEN(D34)=1,1,2) -> 1 | M34: =IF(COUNTIF([1]城中!F:F,F34)=1,"教育城初中",IF(COUNTIF([1]实验!F:F,F34)=1,"实验学校",IF(COUNTIF([1]二中!F:F,F34)=1,"信宜二中",IF(COUNTIF([1]侨中!F:F,F34)=1,"华侨中学","")))) -> 教育城初中
A35: 32 | B35: 教育城小学 | C35: 韦晋升 | D35: 男 | E35: 601 | F35: 1501010662 | G35: 教育城初中 | H35: 实验学校 | I35: 信宜二中 | J35: 华侨中学 | K35: 0.57891332 | L35: =IF(LEN(D35)=1,1,2) -> 1 | M35: =IF(COUNTIF([1]城中!F:F,F35)=1,"教育城初中",IF(COUNTIF([1]实验!F:F,F35)=1,"实验学校",IF(COUNTIF([1]二中!F:F,F35)=1,"信宜二中",IF(COUNTIF([1]侨中!F:F,F35)=1,"华侨中学","")))) -> 实验学校
A36: 33 | B36: 教育城小学 | C36: 梁思铷 | D36: 女 | E36: 601 | F36: 1501010700 | G36: 教育城初中 | K36: 0.18994461 | L36: =IF(LEN(D36)=1,1,2) -> 1 | M36: =IF(COUNTIF([1]城中!F:F,F36)=1,"教育城初中",IF(COUNTIF([1]实验!F:F,F36)=1,"实验学校",IF(COUNTIF([1]二中!F:F,F36)=1,"信宜二中",IF(COUNTIF([1]侨中!F:F,F36)=1,"华侨中学","")))) -> 教育城初中
A37: 34 | B37: 教育城小学 | C37: 赵海琳 | D37: 女 | E37: 601 | F37: 1501010769 | G37: 教育城初中 | H37: 实验学校 | I37: 信宜二中 | J37: 华侨中学 | K37: 0.18248578 | L37: =IF(LEN(D37)=1,1,2) -> 1 | M37: =IF(COUNTIF([1]城中!F:F,F37)=1,"教育城初中",IF(COUNTIF([1]实验!F:F,F37)=1,"实验学校",IF(COUNTIF([1]二中!F:F,F37)=1,"信宜二中",IF(COUNTIF([1]侨中!F:F,F37)=1,"华侨中学","")))) -> 教育城初中
A38: 35 | B38: 教育城小学 | C38: 刘雨锋 | D38: 男 | E38: 601 | F38: 1501010815 | G38: 教育城初中 | H38: 实验学校 | I38: 信宜二中 | J38: 华侨中学 | K38: 0.51057164 | L38: =IF(LEN(D38)=1,1,2) -> 1 | M38: =IF(COUNTIF([1]城中!F:F,F38)=1,"教育城初中",IF(COUNTIF([1]实验!F:F,F38)=1,"实验学校",IF(COUNTIF([1]二中!F:F,F38)=1,"信宜二中",IF(COUNTIF([1]侨中!F:F,F38)=1,"华侨中学","")))) -> 教育城初中
A39: 36 | B39: 教育城小学 | C39: 覃科达 | D39: 男 | E39: 601 | F39: 1501010846 | G39: 教育城初中 | K39: 0.084473773 | L39: =IF(LEN(D39)=1,1,2) -> 1 | M39: =IF(COUNTIF([1]城中!F:F,F39)=1,"教育城初中",IF(COUNTIF([1]实验!F:F,F39)=1,"实验学校",IF(COUNTIF([1]二中!F:F,F39)=1,"信宜二中",IF(COUNTIF([1]侨中!F:F,F39)=1,"华侨中学","")))) -> 教育城初中
A40: 37 | B40: 教育城小学 | C40: 赖芃旭 | D40: 男 | E40: 601 | F40: 1501010869 | G40: 教育城初中 | H40: 实验学校 | I40: 信宜二中 | J40: 华侨中学 | K40: 0.71659573 | L40: =IF(LEN(D40)=1,1,2) -> 1 | M40: =IF(COUNTIF([1]城中!F:F,F40)=1,"教育城初中",IF(COUNTIF([1]实验!F:F,F40)=1,"实验学校",IF(COUNTIF([1]二中!F:F,F40)=1,"信宜二中",IF(COUNTIF([1]侨中!F:F,F40)=1,"华侨中学","")))) -> 实验学校
...

Sheet Sheet2

Sheet Sheet3
